BEGIN:VCALENDAR
VERSION:2.0
PRODID:-//wp-events-plugin.com//5.99912//EN
TZID:Europe/Paris
X-WR-TIMEZONE:Europe/Paris
BEGIN:VEVENT
UID:0-1023@aubagne.fr
DTSTART;TZID=Europe/Paris:20260425T140000
DTEND;TZID=Europe/Paris:20260426T180000
DTSTAMP:20260423T155652Z
URL:https://www.aubagne.fr/evenements/deux-journees-pirates/
SUMMARY:Deux journées Pirates
DESCRIPTION:
ATTACH;FMTTYPE=image/jpeg:https://www.aubagne.fr/app/uploads/2026/04/affic
 he-des-enfants.jpg
CATEGORIES:Jeune public,Loisirs
LOCATION:Espace Bras d&#8217;Or\, Espace Bras d'Or 13400 Aubagne\, France
X-APPLE-STRUCTURED-LOCATION;VALUE=URI;X-ADDRESS=Espace Bras d'Or 13400 Auba
 gne\, France;X-APPLE-RADIUS=100;X-TITLE=Espace Bras d’Or:geo:0,0
END:VEVENT
BEGIN:VTIMEZONE
TZID:Europe/Paris
X-LIC-LOCATION:Europe/Paris
BEGIN:DAYLIGHT
DTSTART:20260329T030000
TZOFFSETFROM:+0100
TZOFFSETTO:+0200
TZNAME:CEST
END:DAYLIGHT
END:VTIMEZONE
END:VCALENDAR